BEGIN:VCALENDAR
VERSION:2.0
PRODID:icalendar-ruby
CALSCALE:GREGORIAN
METHOD:PUBLISH
BEGIN:VEVENT
DTSTAMP:20260424T214454Z
UID:55d26504-9aa6-4a77-ad17-6a567f741bcd
DTSTART:20260912T120000
DTEND:20260916T120000
DESCRIPTION:<p><span style="color: rgb(19\, 1\, 1)\;">Three days of unparal
 leled coastline splendor - this is pure running pleasure. The Wild Coast i
 s raw\, tempestuous and unrestrained. Every day of this three-day run is d
 ifferent\, suiting different talents throughout the journey - some flat ha
 rd-packed beach running\, some straightforward cattle-track traversing and
  finally\, rolling hills bring you into the spectacular finish at the Hole
  in the Wall. </span></p>
LOCATION:Neptunes Cove\, Kei Mouth
SUMMARY:Wildcoast Wildrun 2026
URL;VALUE=URI:https://wildrunner.howler.co.za/wildcoastwildrun2026
END:VEVENT
END:VCALENDAR
